0.15000000000000
0.00000000000000
0.00000000000000
-0.15000000000000
738750.07499999995343
4558499.92499999981374
