0.15000000000000
0.00000000000000
0.00000000000000
-0.15000000000000
738000.07499999995343
4544249.92499999981374
