0.15000000000000
0.00000000000000
0.00000000000000
-0.15000000000000
735750.07499999995343
4540499.92499999981374
