0.15000000000000
0.00000000000000
0.00000000000000
-0.15000000000000
726000.07499999995343
4557749.92499999981374
