0.15000000000000
0.00000000000000
0.00000000000000
-0.15000000000000
723000.07499999995343
4550249.92499999981374
