0.15000000000000
0.00000000000000
0.00000000000000
-0.15000000000000
722250.07499999995343
4553999.92499999981374
