0.15000000000000
0.00000000000000
0.00000000000000
-0.15000000000000
717750.07499999995343
4550999.92499999981374
