0.15000000000000
0.00000000000000
0.00000000000000
-0.15000000000000
714000.07499999995343
4549499.92499999981374
