0.15000000000000
0.00000000000000
0.00000000000000
-0.15000000000000
714000.07499999995343
4541249.92499999981374
