0.15000000000000
0.00000000000000
0.00000000000000
-0.15000000000000
707250.07499999995343
4530749.92499999981374
