0.15000000000000
0.00000000000000
0.00000000000000
-0.15000000000000
683250.07499999995343
4533749.92499999981374
