0.15000000000000
0.00000000000000
0.00000000000000
-0.15000000000000
675000.07499999995343
4530749.92499999981374
