0.15000000000000
0.00000000000000
0.00000000000000
-0.15000000000000
670500.07499999995343
4534499.92499999981374
