0.15000000000000
0.00000000000000
0.00000000000000
-0.15000000000000
655500.07499999995343
4532999.92499999981374
