0.15000000000000
0.00000000000000
0.00000000000000
-0.15000000000000
636750.07499999995343
4529999.92499999981374
