0.15000000000000
0.00000000000000
0.00000000000000
-0.15000000000000
628500.07499999995343
4525499.92499999981374
