0.15000000000000
0.00000000000000
0.00000000000000
-0.15000000000000
626250.07499999995343
4519499.92499999981374
