0.15000000000000
0.00000000000000
0.00000000000000
-0.15000000000000
624750.07499999995343
4527749.92499999981374
