0.15000000000000
0.00000000000000
0.00000000000000
-0.15000000000000
618750.07499999995343
4523999.92499999981374
