0.15000000000000
0.00000000000000
0.00000000000000
-0.15000000000000
614250.07499999995343
4517999.92499999981374
