0.15000000000000
0.00000000000000
0.00000000000000
-0.15000000000000
605250.07499999995343
4531499.92499999981374
