0.15000000000000
0.00000000000000
0.00000000000000
-0.15000000000000
600750.07499999995343
4510499.92499999981374
