0.15000000000000
0.00000000000000
0.00000000000000
-0.15000000000000
594750.07499999995343
4508999.92499999981374
