0.15000000000000
0.00000000000000
0.00000000000000
-0.15000000000000
747000.07499999995343
4586999.92499999981374
