0.15000000000000
0.00000000000000
0.00000000000000
-0.15000000000000
745500.07499999995343
4589249.92499999981374
