0.15000000000000
0.00000000000000
0.00000000000000
-0.15000000000000
742500.07499999995343
4588499.92499999981374
