0.15000000000000
0.00000000000000
0.00000000000000
-0.15000000000000
741000.07499999995343
4597499.92499999981374
