0.15000000000000
0.00000000000000
0.00000000000000
-0.15000000000000
740250.07499999995343
4592999.92499999981374
