0.15000000000000
0.00000000000000
0.00000000000000
-0.15000000000000
732750.07499999995343
4579499.92499999981374
