0.15000000000000
0.00000000000000
0.00000000000000
-0.15000000000000
720000.07499999995343
4582499.92499999981374
