0.15000000000000
0.00000000000000
0.00000000000000
-0.15000000000000
714750.07499999995343
4586249.92499999981374
