0.15000000000000
0.00000000000000
0.00000000000000
-0.15000000000000
711750.07499999995343
4584749.92499999981374
