0.15000000000000
0.00000000000000
0.00000000000000
-0.15000000000000
711000.07499999995343
4577249.92499999981374
