0.15000000000000
0.00000000000000
0.00000000000000
-0.15000000000000
710250.07499999995343
4591499.92499999981374
