0.15000000000000
0.00000000000000
0.00000000000000
-0.15000000000000
709500.07499999995343
4587749.92499999981374
