0.15000000000000
0.00000000000000
0.00000000000000
-0.15000000000000
708750.07499999995343
4595999.92499999981374
