0.15000000000000
0.00000000000000
0.00000000000000
-0.15000000000000
708000.07499999995343
4594499.92499999981374
