0.15000000000000
0.00000000000000
0.00000000000000
-0.15000000000000
705750.07499999995343
4600499.92499999981374
