0.15000000000000
0.00000000000000
0.00000000000000
-0.15000000000000
701250.07499999995343
4599749.92499999981374
