0.15000000000000
0.00000000000000
0.00000000000000
-0.15000000000000
696000.07499999995343
4621499.92499999981374
