0.15000000000000
0.00000000000000
0.00000000000000
-0.15000000000000
695250.07499999995343
4619999.92499999981374
