0.15000000000000
0.00000000000000
0.00000000000000
-0.15000000000000
694500.07499999995343
4610999.92499999981374
