0.15000000000000
0.00000000000000
0.00000000000000
-0.15000000000000
693750.07499999995343
4620749.92499999981374
