0.15000000000000
0.00000000000000
0.00000000000000
-0.15000000000000
687750.07499999995343
4573499.92499999981374
