0.15000000000000
0.00000000000000
0.00000000000000
-0.15000000000000
683250.07499999995343
4580999.92499999981374
