0.15000000000000
0.00000000000000
0.00000000000000
-0.15000000000000
664500.07499999995343
4568999.92499999981374
