0.15000000000000
0.00000000000000
0.00000000000000
-0.15000000000000
660750.07499999995343
4562249.92499999981374
