0.15000000000000
0.00000000000000
0.00000000000000
-0.15000000000000
659250.07499999995343
4568249.92499999981374
