0.15000000000000
0.00000000000000
0.00000000000000
-0.15000000000000
656250.07499999995343
4559999.92499999981374
