0.15000000000000
0.00000000000000
0.00000000000000
-0.15000000000000
654750.07499999995343
4563749.92499999981374
